BEGIN:VCALENDAR
VERSION:2.0
PRODID:-//Tres Litros Beer Co. - ECPv6.15.20//NONSGML v1.0//EN
CALSCALE:GREGORIAN
METHOD:PUBLISH
X-WR-CALNAME:Tres Litros Beer Co.
X-ORIGINAL-URL:https://www.treslitrosbeer.co
X-WR-CALDESC:Events for Tres Litros Beer Co.
REFRESH-INTERVAL;VALUE=DURATION:PT1H
X-Robots-Tag:noindex
X-PUBLISHED-TTL:PT1H
BEGIN:VTIMEZONE
TZID:America/Denver
BEGIN:DAYLIGHT
TZOFFSETFROM:-0700
TZOFFSETTO:-0600
TZNAME:MDT
DTSTART:20250309T090000
END:DAYLIGHT
BEGIN:STANDARD
TZOFFSETFROM:-0600
TZOFFSETTO:-0700
TZNAME:MST
DTSTART:20251102T080000
END:STANDARD
BEGIN:DAYLIGHT
TZOFFSETFROM:-0700
TZOFFSETTO:-0600
TZNAME:MDT
DTSTART:20260308T090000
END:DAYLIGHT
BEGIN:STANDARD
TZOFFSETFROM:-0600
TZOFFSETTO:-0700
TZNAME:MST
DTSTART:20261101T080000
END:STANDARD
BEGIN:DAYLIGHT
TZOFFSETFROM:-0700
TZOFFSETTO:-0600
TZNAME:MDT
DTSTART:20270314T090000
END:DAYLIGHT
BEGIN:STANDARD
TZOFFSETFROM:-0600
TZOFFSETTO:-0700
TZNAME:MST
DTSTART:20271107T080000
END:STANDARD
END:VTIMEZONE
BEGIN:VEVENT
DTSTART;TZID=America/Denver:20260106T180000
DTEND;TZID=America/Denver:20260106T200000
DTSTAMP:20260423T133230
CREATED:20251226T183500Z
LAST-MODIFIED:20251226T183500Z
UID:7729-1767722400-1767729600@www.treslitrosbeer.co
SUMMARY:Queer Happy Hour
DESCRIPTION:Every Tuesday from 6-8pm is Happy Hour at Tres Litros\, but the first Tuesday of each month\, we co-host Queer Happy Hour with Partnership for Community Action. Please join us for some local “queer-munity” and  2SLGBTQIA+ joy. There are activities each month\, plus conversation in a friendly\, inclusive vibe. Drink specials include $1 off Tres Litros pints\, plus 10% off other beverages. Additionally\, 10% of sales during the event will be donated back to PfCA. \n 
URL:https://www.treslitrosbeer.co/event/queer-happy-hour/
LOCATION:Tres Litros Beer Company\, 118 N E St\, Salida\, CO\, 81201\, United States
ATTACH;FMTTYPE=image/png:https://www.treslitrosbeer.co/wp-content/uploads/2025/12/2026.01.06-QHH-scaled.png
END:VEVENT
BEGIN:VEVENT
DTSTART;TZID=America/Denver:20260109T193000
DTEND;TZID=America/Denver:20260109T220000
DTSTAMP:20260423T133230
CREATED:20251215T192206Z
LAST-MODIFIED:20251226T182528Z
UID:7685-1767987000-1767996000@www.treslitrosbeer.co
SUMMARY:The Chaffee Experiment - Live Music
DESCRIPTION:Local bands have a special place in our hearts. Chaffee Experiment is a Salida jazz fusion band that we’re stoked to have back on our stage. Their funky jazz serenades you in a smooth homegrown sound that showcases talented musicians of Salida. Come help us show some local love to this up and coming band.
URL:https://www.treslitrosbeer.co/event/the-chaffee-experiment-live-music/
LOCATION:Tres Litros Beer Company\, 118 N E St\, Salida\, CO\, 81201\, United States
ATTACH;FMTTYPE=image/png:https://www.treslitrosbeer.co/wp-content/uploads/2025/12/2026.01.09-The-Chaffee-Experiment.png
END:VEVENT
BEGIN:VEVENT
DTSTART;TZID=America/Denver:20260114T180000
DTEND;TZID=America/Denver:20260114T190000
DTSTAMP:20260423T133230
CREATED:20251226T184018Z
LAST-MODIFIED:20251226T184018Z
UID:7732-1768413600-1768417200@www.treslitrosbeer.co
SUMMARY:Brewers Talk - Non-Alcoholic Beverages
DESCRIPTION:Please join us for the 4th installment of our Brewers Talk series. This month\, our brewer Quintin\, will be joined  by Tylor McMahon and will be discussing Non-Alcoholic Beverages\, which Tyler has vast knowledge about. We will be featuring our two NA beers\, Nope Hazy Pale Ale\, and our newest addition\, Nope Amber Ale.
URL:https://www.treslitrosbeer.co/event/brewers-talk-non-alcoholic-beverages/
LOCATION:Tres Litros Beer Company\, 118 N E St\, Salida\, CO\, 81201\, United States
ATTACH;FMTTYPE=image/png:https://www.treslitrosbeer.co/wp-content/uploads/2025/12/2026.01.14-Brewers-Talk.png
END:VEVENT
BEGIN:VEVENT
DTSTART;TZID=America/Denver:20260115T190000
DTEND;TZID=America/Denver:20260115T213000
DTSTAMP:20260423T133230
CREATED:20251226T184137Z
LAST-MODIFIED:20251230T202838Z
UID:7736-1768503600-1768512600@www.treslitrosbeer.co
SUMMARY:Tres Trivia
DESCRIPTION:Another round of Tres Trivia is coming to our taproom on 1/15\, starting at 7pm. Matt and Taryn will be asking all new questions. Teams are limited to 8 people\, and there are great prizes for the top three teams. We look forward to seeing how smart you all are. Cheers
URL:https://www.treslitrosbeer.co/event/tres-trivia-2/
LOCATION:Tres Litros Beer Company\, 118 N E St\, Salida\, CO\, 81201\, United States
ATTACH;FMTTYPE=image/png:https://www.treslitrosbeer.co/wp-content/uploads/2025/12/2026.01.15-Trivia-scaled.png
END:VEVENT
BEGIN:VEVENT
DTSTART;TZID=America/Denver:20260116T190000
DTEND;TZID=America/Denver:20260116T220000
DTSTAMP:20260423T133230
CREATED:20251226T182841Z
LAST-MODIFIED:20251226T182841Z
UID:7724-1768590000-1768600800@www.treslitrosbeer.co
SUMMARY:Alternative People - Live Music
DESCRIPTION:Alternative People is a Gunnison jam-fusion quartet that ascends the stratosphere with their cosmic sounds\, creating original music that comes from the fourth dimension and performing a wide range of cover songs. Their sound fuses the musical elements influenced by funk\, metal\, rock\, bluegrass\, hip-hop\, and beyond. This group has spent multiple years building their groovy sound that moves from entrancing beats to rhythmic melodies and beyond. Alternative People’s improvisational style weaves together a multitude of genres to create a truly unique sound where no two shows are ever the same. Come check out this live performance and be transported into the fourth dimension.
URL:https://www.treslitrosbeer.co/event/alternative-people-live-music/
LOCATION:Tres Litros Beer Company\, 118 N E St\, Salida\, CO\, 81201\, United States
ATTACH;FMTTYPE=image/png:https://www.treslitrosbeer.co/wp-content/uploads/2025/12/2026.01.16-Alternative-People.png
END:VEVENT
BEGIN:VEVENT
DTSTART;TZID=America/Denver:20260120T180000
DTEND;TZID=America/Denver:20260120T200000
DTSTAMP:20260423T133230
CREATED:20251226T184439Z
LAST-MODIFIED:20251226T184439Z
UID:7739-1768932000-1768939200@www.treslitrosbeer.co
SUMMARY:Happy Hour For A Cause - GARNA
DESCRIPTION:We’ll be hosting GARNA for January’s Happy Hour for a Cause. Come enjoy $1 off Tres Litros pints and 10% off other drinks from 6-8pm. 10% of sales during the Happy Hour will be donated back to GARNA. Come by to hang out with friends and other like-minded individuals and support a great organization at the same time.
URL:https://www.treslitrosbeer.co/event/happy-hour-for-a-cause-garna/
LOCATION:Tres Litros Beer Company\, 118 N E St\, Salida\, CO\, 81201\, United States
ATTACH;FMTTYPE=image/png:https://www.treslitrosbeer.co/wp-content/uploads/2025/12/2026.01.20-GARNA.png
END:VEVENT
BEGIN:VEVENT
DTSTART;TZID=America/Denver:20260130T190000
DTEND;TZID=America/Denver:20260130T220000
DTSTAMP:20260423T133230
CREATED:20260115T051815Z
LAST-MODIFIED:20260118T183154Z
UID:7787-1769799600-1769810400@www.treslitrosbeer.co
SUMMARY:Bill Hussey - Live Music
DESCRIPTION:Please join us for a night with local multi-instrumentalist and vocalist-extraordinaire Bill Hussey. Bill will be performing solo on this evening\, but if you know Bill\, he oftentimes will have other talented musicians join him on stage. You can expect Bill to perform lots of well-known covers from genres ranging from Americana\, bluegrass\, country\, rock and possibly more. We’ve gotten to see Bill play with a number of different bands throughout the years\, but we are always looking forward to his solo sets too. \n 
URL:https://www.treslitrosbeer.co/event/bill-hussey-live-music/
LOCATION:Tres Litros Beer Company\, 118 N E St\, Salida\, CO\, 81201\, United States
ATTACH;FMTTYPE=image/png:https://www.treslitrosbeer.co/wp-content/uploads/2026/01/2026.01.30-Bill-Hussey.png
END:VEVENT
END:VCALENDAR