BEGIN:VCALENDAR
VERSION:2.0
PRODID:-//Tres Litros Beer Co. - ECPv6.15.20//NONSGML v1.0//EN
CALSCALE:GREGORIAN
METHOD:PUBLISH
X-WR-CALNAME:Tres Litros Beer Co.
X-ORIGINAL-URL:https://www.treslitrosbeer.co
X-WR-CALDESC:Events for Tres Litros Beer Co.
REFRESH-INTERVAL;VALUE=DURATION:PT1H
X-Robots-Tag:noindex
X-PUBLISHED-TTL:PT1H
BEGIN:VTIMEZONE
TZID:America/Denver
BEGIN:DAYLIGHT
TZOFFSETFROM:-0700
TZOFFSETTO:-0600
TZNAME:MDT
DTSTART:20240310T090000
END:DAYLIGHT
BEGIN:STANDARD
TZOFFSETFROM:-0600
TZOFFSETTO:-0700
TZNAME:MST
DTSTART:20241103T080000
END:STANDARD
BEGIN:DAYLIGHT
TZOFFSETFROM:-0700
TZOFFSETTO:-0600
TZNAME:MDT
DTSTART:20250309T090000
END:DAYLIGHT
BEGIN:STANDARD
TZOFFSETFROM:-0600
TZOFFSETTO:-0700
TZNAME:MST
DTSTART:20251102T080000
END:STANDARD
BEGIN:DAYLIGHT
TZOFFSETFROM:-0700
TZOFFSETTO:-0600
TZNAME:MDT
DTSTART:20260308T090000
END:DAYLIGHT
BEGIN:STANDARD
TZOFFSETFROM:-0600
TZOFFSETTO:-0700
TZNAME:MST
DTSTART:20261101T080000
END:STANDARD
END:VTIMEZONE
BEGIN:VEVENT
DTSTART;TZID=America/Denver:20251122T190000
DTEND;TZID=America/Denver:20251122T220000
DTSTAMP:20260423T225557
CREATED:20251118T210433Z
LAST-MODIFIED:20251119T002847Z
UID:7476-1763838000-1763848800@www.treslitrosbeer.co
SUMMARY:Marc Albion - Live Music
DESCRIPTION:Marc Albion has played on our stage numerous times whether it be solo\, as part of Ol’Scratch or with That 90’s Band. In his solo act\, he loops covers and originals\, while playing guitar\, piano and sometimes mandolin too. Marc is a really talented musician with lots of drive to continuously improve his craft and learn new songs\, so we’re excited to welcome him back. 
URL:https://www.treslitrosbeer.co/event/marc-albion-live-music/
LOCATION:Tres Litros Beer Company\, 118 N E St\, Salida\, CO\, 81201\, United States
ATTACH;FMTTYPE=image/png:https://www.treslitrosbeer.co/wp-content/uploads/2025/10/2025.11.22-Marc-Albion-copy.png
END:VEVENT
BEGIN:VEVENT
DTSTART;TZID=America/Denver:20251121T190000
DTEND;TZID=America/Denver:20251121T220000
DTSTAMP:20260423T225557
CREATED:20251118T210247Z
LAST-MODIFIED:20251119T000516Z
UID:7474-1763751600-1763762400@www.treslitrosbeer.co
SUMMARY:Justin Allison & Rob Teagarden - Live Music
DESCRIPTION:This will be the first time that Justin Allison performs on our stage and we are excited to hear his music. Alongside him for this evening of music will be Rob Teagarden\, who has played many shows on our stage as part of bands El Camino\, Zephyr Jazz Project\, Focus Group and The Chaffee Experiment. Justin plays all sorts of different music styles\, and we expect to hear lots of Swing\, Samba\, Bossa\, Ballads and Blues. So please come check out a new local artist to our stage and enjoy a new set of sounds for our taproom.
URL:https://www.treslitrosbeer.co/event/justin-allison-rob-teagarden-live-music/
LOCATION:Tres Litros Beer Company\, 118 N E St\, Salida\, CO\, 81201\, United States
ATTACH;FMTTYPE=image/png:https://www.treslitrosbeer.co/wp-content/uploads/2025/10/2025.11.21-Justin-Allison-copy.png
END:VEVENT
END:VCALENDAR