BEGIN:VCALENDAR
VERSION:2.0
PRODID:-//Tres Litros Beer Co. - ECPv6.15.20//NONSGML v1.0//EN
CALSCALE:GREGORIAN
METHOD:PUBLISH
X-ORIGINAL-URL:https://www.treslitrosbeer.co
X-WR-CALDESC:Events for Tres Litros Beer Co.
REFRESH-INTERVAL;VALUE=DURATION:PT1H
X-Robots-Tag:noindex
X-PUBLISHED-TTL:PT1H
BEGIN:VTIMEZONE
TZID:America/Denver
BEGIN:DAYLIGHT
TZOFFSETFROM:-0700
TZOFFSETTO:-0600
TZNAME:MDT
DTSTART:20250309T090000
END:DAYLIGHT
BEGIN:STANDARD
TZOFFSETFROM:-0600
TZOFFSETTO:-0700
TZNAME:MST
DTSTART:20251102T080000
END:STANDARD
BEGIN:DAYLIGHT
TZOFFSETFROM:-0700
TZOFFSETTO:-0600
TZNAME:MDT
DTSTART:20260308T090000
END:DAYLIGHT
BEGIN:STANDARD
TZOFFSETFROM:-0600
TZOFFSETTO:-0700
TZNAME:MST
DTSTART:20261101T080000
END:STANDARD
BEGIN:DAYLIGHT
TZOFFSETFROM:-0700
TZOFFSETTO:-0600
TZNAME:MDT
DTSTART:20270314T090000
END:DAYLIGHT
BEGIN:STANDARD
TZOFFSETFROM:-0600
TZOFFSETTO:-0700
TZNAME:MST
DTSTART:20271107T080000
END:STANDARD
END:VTIMEZONE
BEGIN:VEVENT
DTSTART;TZID=America/Denver:20260424T190000
DTEND;TZID=America/Denver:20260424T220000
DTSTAMP:20260423T120009
CREATED:20260306T183753Z
LAST-MODIFIED:20260328T232040Z
UID:8007-1777057200-1777068000@www.treslitrosbeer.co
SUMMARY:Jubanaut - Live Music
DESCRIPTION:Jubanaut is Salida’s newest band\, composed of great guys that live in our home town and have been playing music together for a long time. They’ve only played a few shows in public\, which we hear were a lot of fun\, so we’re excited to host them on our stage. They describe their music as Eclectic Alternative Rock with Roots\, Soul\, and Americana influences. Expect a lot of fun covers from bands that you can sing along with like the Black Pumas\, Red Clay Strays\, and Beck among others.
URL:https://www.treslitrosbeer.co/event/jubanaut-live-music/
LOCATION:Tres Litros Beer Company\, 118 N E St\, Salida\, CO\, 81201\, United States
ATTACH;FMTTYPE=image/png:https://www.treslitrosbeer.co/wp-content/uploads/2026/03/2026.04.24-Jubanaut.png
END:VEVENT
BEGIN:VEVENT
DTSTART;TZID=America/Denver:20260425T190000
DTEND;TZID=America/Denver:20260425T220000
DTSTAMP:20260423T120009
CREATED:20260217T010325Z
LAST-MODIFIED:20260328T231916Z
UID:7925-1777143600-1777154400@www.treslitrosbeer.co
SUMMARY:Hip Hop is Dead - Live Music
DESCRIPTION:Hip Hop is Dead is coming back for another show on our stage\, this being the sixth time they’ve played for us. This Colorado Springs band describe themselves as “a funky celebration of classic hip-hop and the music of the Grateful Dead.” They feature top notch musicians playing tight jams and a lead singer that has a voice you just have to hear. Their shows are always so fun and you’ll love how they mash up your favorite Dead tunes with lots of great hip hop tracks that you’re sure to recognize.
URL:https://www.treslitrosbeer.co/event/hip-hop-is-dead-live-music/
LOCATION:Tres Litros Beer Company\, 118 N E St\, Salida\, CO\, 81201\, United States
ATTACH;FMTTYPE=image/png:https://www.treslitrosbeer.co/wp-content/uploads/2026/02/2026.04.25-Hip-Hop-Is-Dead-scaled.png
END:VEVENT
BEGIN:VEVENT
DTSTART;TZID=America/Denver:20260501T190000
DTEND;TZID=America/Denver:20260501T220000
DTSTAMP:20260423T120009
CREATED:20260418T202553Z
LAST-MODIFIED:20260418T202553Z
UID:8111-1777662000-1777672800@www.treslitrosbeer.co
SUMMARY:Punk Night w/ Good Family & Down Valley Trash
DESCRIPTION:We’re kicking off our 6th Anniversary Weekend with a night of Punk Music. Both bands are new to our stage and we’re stoked to welcome them. Good Family is a Denver based punk band\, formed in 2018\, and comprised of scene veterans. They have a few EPs and countless gigs of high energy punk under their belt. Down Valley Trash is from just over the pass in Gunnison and they describe their music as Trashy Colorado Punkrock. We’re excited to host both of these bands and see what kind of ruckus they create.
URL:https://www.treslitrosbeer.co/event/punk-night-w-good-family-down-valley-trash/
LOCATION:Tres Litros Beer Company\, 118 N E St\, Salida\, CO\, 81201\, United States
ATTACH;FMTTYPE=image/png:https://www.treslitrosbeer.co/wp-content/uploads/2026/04/2026.05.01-Punk-Night-scaled.png
END:VEVENT
BEGIN:VEVENT
DTSTART;TZID=America/Denver:20260502T133000
DTEND;TZID=America/Denver:20260502T163000
DTSTAMP:20260423T120009
CREATED:20260418T202942Z
LAST-MODIFIED:20260418T203053Z
UID:8114-1777728600-1777739400@www.treslitrosbeer.co
SUMMARY:Houlihan & Hussey - Live Music
DESCRIPTION:Our 6th Anniversary Party will start off with an afternoon set from local musicians Casey Houlihan and Bill Hussey\, both veterans of our stage. These two talented guys will set the vibe for the day with lots of songs you’re sure to recognize. Bill has played more shows on our stage than we can keep count of\, but this will be the first one with just him and Casey showcasing their talents.
URL:https://www.treslitrosbeer.co/event/houlihan-hussey-live-music/
LOCATION:Tres Litros Beer Company\, 118 N E St\, Salida\, CO\, 81201\, United States
ATTACH;FMTTYPE=image/png:https://www.treslitrosbeer.co/wp-content/uploads/2026/04/2026.05.02-Anny-Party-scaled.png
END:VEVENT
BEGIN:VEVENT
DTSTART;TZID=America/Denver:20260502T193000
DTEND;TZID=America/Denver:20260502T220000
DTSTAMP:20260423T120009
CREATED:20260217T010847Z
LAST-MODIFIED:20260418T203641Z
UID:7927-1777750200-1777759200@www.treslitrosbeer.co
SUMMARY:Cousin Curtiss - Live Music
DESCRIPTION:This will be the seventh time Cousin Curtiss has played our stage and we’re counting ourselves lucky to have him back to help us celebrate our Anniversary Party. He’ll have Harrison B with him again\, as he’s been part of Curtiss’ touring duo for some time now. This duo has been continuing their upward trajectory and travels all through the states\, including tours to AK. Everywhere they go\, they put on a hell of a show with their Root Stomp music. If you’ve not seen them play in our taproom\, our Anniversary Party is the perfect time\, because their shows are some of the most fun we have all year long.
URL:https://www.treslitrosbeer.co/event/cousin-curtiss-live-music/
LOCATION:Tres Litros Beer Company\, 118 N E St\, Salida\, CO\, 81201\, United States
ATTACH;FMTTYPE=image/png:https://www.treslitrosbeer.co/wp-content/uploads/2026/02/2026.05.02-Cousin-Curtiss-scaled.png
END:VEVENT
BEGIN:VEVENT
DTSTART;TZID=America/Denver:20260508T190000
DTEND;TZID=America/Denver:20260508T210000
DTSTAMP:20260423T120009
CREATED:20260217T011750Z
LAST-MODIFIED:20260418T204338Z
UID:7929-1778266800-1778274000@www.treslitrosbeer.co
SUMMARY:Lewis Turner - Live Music
DESCRIPTION:Lewis Turner is a Colorado raised singer-songwriter who plays a form of music he calls slow folk: unhurried\, honest songs that draw you in and fill quiet spaces. His 2023 debut album\, Of Fibre and Fixes\, displays music rooted in intimate\, acoustic folk and his live shows emphasize honest storytelling and creating connections with audiences. His catalog of music expanded in 2025 with his Fishing for You EP\, and he’ll be releasing a new album in May 2026\, so we’re hoping to hear some of the songs from that album during his debut performance on our stage. 
URL:https://www.treslitrosbeer.co/event/lewis-turner-live-music/
LOCATION:Tres Litros Beer Company\, 118 N E St\, Salida\, CO\, 81201\, United States
ATTACH;FMTTYPE=image/png:https://www.treslitrosbeer.co/wp-content/uploads/2026/02/2026.05.08-Lewis-Turner-1-scaled.png
END:VEVENT
BEGIN:VEVENT
DTSTART;TZID=America/Denver:20260512T180000
DTEND;TZID=America/Denver:20260512T200000
DTSTAMP:20260423T120009
CREATED:20260418T205825Z
LAST-MODIFIED:20260418T210713Z
UID:8125-1778608800-1778616000@www.treslitrosbeer.co
SUMMARY:Happy Hour for a Cause - Central Colorado Conservancy
DESCRIPTION:We’ll be hosting Central Colorado Conservancy for May’s Happy Hour for a Cause. Come enjoy $1 off Tres Litros pints and 10% off other drinks from 6-8pm. 10% of sales during the Happy Hour will be donated back to Central Colorado Conservancy and there will be a silent auction with lots of great items. Come by to hang out with friends and other like-minded individuals and support a great organization at the same time.
URL:https://www.treslitrosbeer.co/event/happy-hour-for-a-cause-central-colorado-conservancy/
LOCATION:Tres Litros Beer Company\, 118 N E St\, Salida\, CO\, 81201\, United States
ATTACH;FMTTYPE=image/png:https://www.treslitrosbeer.co/wp-content/uploads/2026/04/2026.05.12-Happy-Hour-scaled.png
END:VEVENT
BEGIN:VEVENT
DTSTART;TZID=America/Denver:20260515T190000
DTEND;TZID=America/Denver:20260515T220000
DTSTAMP:20260423T120009
CREATED:20260328T232632Z
LAST-MODIFIED:20260418T205528Z
UID:8074-1778871600-1778882400@www.treslitrosbeer.co
SUMMARY:The Chaffee Experiment - Live Music
DESCRIPTION:This will be the 5th performance by The Chaffee Experiment on our stage. This local band plays a brand of funky jazz fusion that always sounds great in our taproom. Lots of talent will be displayed during their show\, so please come help us show some Salida love to this increasingly popular band.
URL:https://www.treslitrosbeer.co/event/the-chaffee-experiment-live-music-2/
LOCATION:Tres Litros Beer Company\, 118 N E St\, Salida\, CO\, 81201\, United States
ATTACH;FMTTYPE=image/png:https://www.treslitrosbeer.co/wp-content/uploads/2026/03/2026.05.15-Chaffee-Experiment.png
END:VEVENT
BEGIN:VEVENT
DTSTART;TZID=America/Denver:20260516T150000
DTEND;TZID=America/Denver:20260516T193000
DTSTAMP:20260423T120009
CREATED:20260423T163347Z
LAST-MODIFIED:20260423T163424Z
UID:8158-1778943600-1778959800@www.treslitrosbeer.co
SUMMARY:3rd Annual Crawfish Boil
DESCRIPTION:We’ll be hosting the 3rd Annual Crawfish Boil on the afternoon of May 16th\, starting at 3pm. The food will be prepared and served by Jahil (King Kaeng & Bahn Vivant) and Josh (Mudbug). They’ve sold out of crawfish each of the first two years\, so make sure you come down early to secure your plate of these delicious crustaceans with the accoutrements (sausage/potatoes/corn) typically served with this southern-style social gathering. Vibes will be high and the beers will be flowing. Come be part of this growing tradition.
URL:https://www.treslitrosbeer.co/event/3rd-annual-crawfish-boil/
LOCATION:Tres Litros Beer Company\, 118 N E St\, Salida\, CO\, 81201\, United States
END:VEVENT
BEGIN:VEVENT
DTSTART;TZID=America/Denver:20260516T190000
DTEND;TZID=America/Denver:20260516T220000
DTSTAMP:20260423T120009
CREATED:20260328T232714Z
LAST-MODIFIED:20260422T161550Z
UID:8076-1778958000-1778968800@www.treslitrosbeer.co
SUMMARY:Cottonwood Drifters - Live Music
DESCRIPTION:The Cottonwood Drifters will be making their debut on our stage\, bringing their mix of Americana and bluegrass originals & covers with a high energy\, porch jam vibe. Based mostly in Denver\, with some local ties\, we’re excited to see them perform. We’ll be hosting our 3rd Annual Crawfish Boil during the afternoon\, so stick around to check out a new band that we’re sure you’ll enjoy.
URL:https://www.treslitrosbeer.co/event/cottonwood-drifters-live-music/
LOCATION:Tres Litros Beer Company\, 118 N E St\, Salida\, CO\, 81201\, United States
ATTACH;FMTTYPE=image/png:https://www.treslitrosbeer.co/wp-content/uploads/2026/03/2026.05.16-Cottonwood-Drifters-scaled.png
END:VEVENT
BEGIN:VEVENT
DTSTART;TZID=America/Denver:20260522T190000
DTEND;TZID=America/Denver:20260522T220000
DTSTAMP:20260423T120009
CREATED:20260217T013213Z
LAST-MODIFIED:20260423T160442Z
UID:7931-1779476400-1779487200@www.treslitrosbeer.co
SUMMARY:Liver Down The River - Live Music
DESCRIPTION:We’re kicking off Bluegrass on the Arkansas weekend with one of our favorite returning bands\, Liver Down The River and their vivacious\, funky vibes. Back for their sixth show on our stage\, they are cranking up the energy with various instruments including both acoustic and electric strings\, keys\, drums\, and the soaring vocals you’ve come to expect from this jamgrass band. Their unique sound and high energy performances have led them to share the stage with the likes of the Infamous Stringdusters\, Railroad Earth\, Lil’ Smokies\, The New Mastersounds\, John Stickley Trio\, and Poor Man’s Whiskey\, to name a few. Come ready to dance because this band is fast-paced and will make you want to move.
URL:https://www.treslitrosbeer.co/event/liver-down-the-river-live-music-2/
LOCATION:Tres Litros Beer Company\, 118 N E St\, Salida\, CO\, 81201\, United States
ATTACH;FMTTYPE=image/png:https://www.treslitrosbeer.co/wp-content/uploads/2026/02/2026.05.22-Liver-Down-The-River-scaled.png
END:VEVENT
BEGIN:VEVENT
DTSTART;TZID=America/Denver:20260523T203000
DTEND;TZID=America/Denver:20260523T233000
DTSTAMP:20260423T120009
CREATED:20260306T183926Z
LAST-MODIFIED:20260423T160943Z
UID:8010-1779568200-1779579000@www.treslitrosbeer.co
SUMMARY:Mighty Holler - Live Music
DESCRIPTION:Late night shows are one of the best parts of festival weekends. This year will be no different\, with Mighty Holler coming to our stage for a show as the music on the main stage winds down. They play a style of Colorado Bluegrass that bridges the gap between tradition and innovation. This power couple duo brings a lively\, connected energy to the stage\, mixing up old-time\, bluegrass\, and roots with a dash of fresh attitude. This will be their second time on our stage but they have also lit up stages at Tico Time Bluegrass Festival\, Palisade Bluegrass Bash\, Boulder Film Festival\, and more. Come for the beer and tunes\, stay for the holler!
URL:https://www.treslitrosbeer.co/event/mighty-holler-live-music/
LOCATION:Tres Litros Beer Company\, 118 N E St\, Salida\, CO\, 81201\, United States
ATTACH;FMTTYPE=image/png:https://www.treslitrosbeer.co/wp-content/uploads/2026/03/2026.05.23-Mighty-Holler-scaled.png
END:VEVENT
BEGIN:VEVENT
DTSTART;TZID=America/Denver:20260529T190000
DTEND;TZID=America/Denver:20260529T220000
DTSTAMP:20260423T120009
CREATED:20260217T013301Z
LAST-MODIFIED:20260423T161145Z
UID:7933-1780081200-1780092000@www.treslitrosbeer.co
SUMMARY:Taylor Scott Band - Live Music
DESCRIPTION:Another returning band is coming back for their second show after wowing our patrons last September. The Taylor Scott Band is based in Denver and their music is a blend of Soul\, Funk\, and greasy Rock & Roll with some old school Honkytonk thrown in for good measure. You won’t want to miss this show\, this band provides a full sound and features some very talented musicians. 
URL:https://www.treslitrosbeer.co/event/taylor-scott-band-live-music/
LOCATION:Tres Litros Beer Company\, 118 N E St\, Salida\, CO\, 81201\, United States
ATTACH;FMTTYPE=image/png:https://www.treslitrosbeer.co/wp-content/uploads/2026/02/2026.05.29-Taylor-Scott-Band-scaled.png
END:VEVENT
BEGIN:VEVENT
DTSTART;TZID=America/Denver:20260530T190000
DTEND;TZID=America/Denver:20260530T220000
DTSTAMP:20260423T120009
CREATED:20260217T013353Z
LAST-MODIFIED:20260423T161520Z
UID:7935-1780167600-1780178400@www.treslitrosbeer.co
SUMMARY:Fuzztron - Live Music
DESCRIPTION:Fuzztron is coming back and that is something to get very excited about. Even more exciting is that this will be a birthday celebration for their bassist\, Zach. Expect a fun night of instrumental psychedelic rock with elements of funk and jazz and likely lots of improvisation. This band is known to bring guests on stage to further expand their already diverse sound. Don’t miss the chance to see this show and help Zach celebrate a milestone birthday at the same time.
URL:https://www.treslitrosbeer.co/event/fuzztron-live-music/
LOCATION:Tres Litros Beer Company\, 118 N E St\, Salida\, CO\, 81201\, United States
ATTACH;FMTTYPE=image/png:https://www.treslitrosbeer.co/wp-content/uploads/2026/02/2026.05.30-Fuzztron-scaled.png
END:VEVENT
BEGIN:VEVENT
DTSTART;TZID=America/Denver:20260618T210000
DTEND;TZID=America/Denver:20260618T235900
DTSTAMP:20260423T120009
CREATED:20260418T215820Z
LAST-MODIFIED:20260418T215820Z
UID:8134-1781816400-1781827140@www.treslitrosbeer.co
SUMMARY:Big Horn - Live Music
DESCRIPTION:
URL:https://www.treslitrosbeer.co/event/big-horn-live-music/
LOCATION:Tres Litros Beer Company\, 118 N E St\, Salida\, CO\, 81201\, United States
END:VEVENT
BEGIN:VEVENT
DTSTART;TZID=America/Denver:20260619T210000
DTEND;TZID=America/Denver:20260619T235900
DTSTAMP:20260423T120009
CREATED:20260217T013512Z
LAST-MODIFIED:20260418T215728Z
UID:7937-1781902800-1781913540@www.treslitrosbeer.co
SUMMARY:The Skinny - Live Music
DESCRIPTION:
URL:https://www.treslitrosbeer.co/event/the-skinny-live-music/
LOCATION:Tres Litros Beer Company\, 118 N E St\, Salida\, CO\, 81201\, United States
END:VEVENT
BEGIN:VEVENT
DTSTART;TZID=America/Denver:20260620T210000
DTEND;TZID=America/Denver:20260620T235900
DTSTAMP:20260423T120009
CREATED:20260217T013557Z
LAST-MODIFIED:20260217T013557Z
UID:7939-1781989200-1781999940@www.treslitrosbeer.co
SUMMARY:Warsaw Poland Bros - Live Music
DESCRIPTION:
URL:https://www.treslitrosbeer.co/event/warsaw-poland-bros-live-music/
LOCATION:Tres Litros Beer Company\, 118 N E St\, Salida\, CO\, 81201\, United States
END:VEVENT
BEGIN:VEVENT
DTSTART;TZID=America/Denver:20260621T170000
DTEND;TZID=America/Denver:20260621T200000
DTSTAMP:20260423T120009
CREATED:20260418T215909Z
LAST-MODIFIED:20260418T215909Z
UID:8136-1782061200-1782072000@www.treslitrosbeer.co
SUMMARY:Marshland - Live Music
DESCRIPTION:
URL:https://www.treslitrosbeer.co/event/marshland-live-music/
LOCATION:Tres Litros Beer Company\, 118 N E St\, Salida\, CO\, 81201\, United States
END:VEVENT
BEGIN:VEVENT
DTSTART;TZID=America/Denver:20260710T190000
DTEND;TZID=America/Denver:20260710T220000
DTSTAMP:20260423T120009
CREATED:20260418T215946Z
LAST-MODIFIED:20260418T215946Z
UID:8138-1783710000-1783720800@www.treslitrosbeer.co
SUMMARY:At The Watertower - Live Music
DESCRIPTION:
URL:https://www.treslitrosbeer.co/event/at-the-watertower-live-music/
LOCATION:Tres Litros Beer Company\, 118 N E St\, Salida\, CO\, 81201\, United States
END:VEVENT
BEGIN:VEVENT
DTSTART;TZID=America/Denver:20260712T190000
DTEND;TZID=America/Denver:20260712T220000
DTSTAMP:20260423T120009
CREATED:20260418T221310Z
LAST-MODIFIED:20260418T221310Z
UID:8140-1783882800-1783893600@www.treslitrosbeer.co
SUMMARY:Groovespeak - Live Music
DESCRIPTION:
URL:https://www.treslitrosbeer.co/event/groovespeak-live-music-2/
LOCATION:Tres Litros Beer Company\, 118 N E St\, Salida\, CO\, 81201\, United States
END:VEVENT
BEGIN:VEVENT
DTSTART;TZID=America/Denver:20260718T190000
DTEND;TZID=America/Denver:20260718T220000
DTSTAMP:20260423T120009
CREATED:20260418T221408Z
LAST-MODIFIED:20260418T221408Z
UID:8142-1784401200-1784412000@www.treslitrosbeer.co
SUMMARY:Punk Night w/ King Rat\, One Square Mile & FKD
DESCRIPTION:
URL:https://www.treslitrosbeer.co/event/punk-night-w-king-rat-one-square-mile-fkd/
LOCATION:Tres Litros Beer Company\, 118 N E St\, Salida\, CO\, 81201\, United States
END:VEVENT
BEGIN:VEVENT
DTSTART;TZID=America/Denver:20260724T190000
DTEND;TZID=America/Denver:20260724T220000
DTSTAMP:20260423T120009
CREATED:20260418T221449Z
LAST-MODIFIED:20260418T221449Z
UID:8144-1784919600-1784930400@www.treslitrosbeer.co
SUMMARY:High Country Hustle - Live Music
DESCRIPTION:
URL:https://www.treslitrosbeer.co/event/high-country-hustle-live-music/
LOCATION:Tres Litros Beer Company\, 118 N E St\, Salida\, CO\, 81201\, United States
END:VEVENT
BEGIN:VEVENT
DTSTART;TZID=America/Denver:20260731T190000
DTEND;TZID=America/Denver:20260731T220000
DTSTAMP:20260423T120009
CREATED:20260418T221603Z
LAST-MODIFIED:20260418T221603Z
UID:8148-1785524400-1785535200@www.treslitrosbeer.co
SUMMARY:Sister Sabbath - Live Music
DESCRIPTION:
URL:https://www.treslitrosbeer.co/event/sister-sabbath-live-music/
LOCATION:Tres Litros Beer Company\, 118 N E St\, Salida\, CO\, 81201\, United States
END:VEVENT
END:VCALENDAR