BEGIN:VCALENDAR
VERSION:2.0
PRODID:-//Tres Litros Beer Co. - ECPv6.15.20//NONSGML v1.0//EN
CALSCALE:GREGORIAN
METHOD:PUBLISH
X-WR-CALNAME:Tres Litros Beer Co.
X-ORIGINAL-URL:https://www.treslitrosbeer.co
X-WR-CALDESC:Events for Tres Litros Beer Co.
REFRESH-INTERVAL;VALUE=DURATION:PT1H
X-Robots-Tag:noindex
X-PUBLISHED-TTL:PT1H
BEGIN:VTIMEZONE
TZID:America/Denver
BEGIN:DAYLIGHT
TZOFFSETFROM:-0700
TZOFFSETTO:-0600
TZNAME:MDT
DTSTART:20250309T090000
END:DAYLIGHT
BEGIN:STANDARD
TZOFFSETFROM:-0600
TZOFFSETTO:-0700
TZNAME:MST
DTSTART:20251102T080000
END:STANDARD
BEGIN:DAYLIGHT
TZOFFSETFROM:-0700
TZOFFSETTO:-0600
TZNAME:MDT
DTSTART:20260308T090000
END:DAYLIGHT
BEGIN:STANDARD
TZOFFSETFROM:-0600
TZOFFSETTO:-0700
TZNAME:MST
DTSTART:20261101T080000
END:STANDARD
BEGIN:DAYLIGHT
TZOFFSETFROM:-0700
TZOFFSETTO:-0600
TZNAME:MDT
DTSTART:20270314T090000
END:DAYLIGHT
BEGIN:STANDARD
TZOFFSETFROM:-0600
TZOFFSETTO:-0700
TZNAME:MST
DTSTART:20271107T080000
END:STANDARD
END:VTIMEZONE
BEGIN:VEVENT
DTSTART;TZID=America/Denver:20260328T193000
DTEND;TZID=America/Denver:20260328T223000
DTSTAMP:20260423T114809
CREATED:20260306T183435Z
LAST-MODIFIED:20260316T000207Z
UID:8002-1774726200-1774737000@www.treslitrosbeer.co
SUMMARY:Neon Party Art Show with Continuous Vibe
DESCRIPTION:Break out the high vis\, it’s time to party! Steve from @continuousvibe will be throwing his first art show. He’ll be sharing years of stored up artwork and also be doing some live painting during the evening. His work features neon colors that will be glowing under black lights and there will be music provided by @waste_nothing @foxygrandpadj while @fetchkoglassandgems blows glass while Steve live paints. It will be a night of art\, music and dancing.
URL:https://www.treslitrosbeer.co/event/neon-party-art-show-with-continuous-vibe/
LOCATION:Tres Litros Beer Company\, 118 N E St\, Salida\, CO\, 81201\, United States
ATTACH;FMTTYPE=image/png:https://www.treslitrosbeer.co/wp-content/uploads/2026/03/2026.03.28-Continous-Vibe-scaled.png
END:VEVENT
END:VCALENDAR