BEGIN:VCALENDAR
VERSION:2.0
PRODID:-//Tres Litros Beer Co. - ECPv6.15.20//NONSGML v1.0//EN
CALSCALE:GREGORIAN
METHOD:PUBLISH
X-ORIGINAL-URL:https://www.treslitrosbeer.co
X-WR-CALDESC:Events for Tres Litros Beer Co.
REFRESH-INTERVAL;VALUE=DURATION:PT1H
X-Robots-Tag:noindex
X-PUBLISHED-TTL:PT1H
BEGIN:VTIMEZONE
TZID:America/Denver
BEGIN:DAYLIGHT
TZOFFSETFROM:-0700
TZOFFSETTO:-0600
TZNAME:MDT
DTSTART:20250309T090000
END:DAYLIGHT
BEGIN:STANDARD
TZOFFSETFROM:-0600
TZOFFSETTO:-0700
TZNAME:MST
DTSTART:20251102T080000
END:STANDARD
BEGIN:DAYLIGHT
TZOFFSETFROM:-0700
TZOFFSETTO:-0600
TZNAME:MDT
DTSTART:20260308T090000
END:DAYLIGHT
BEGIN:STANDARD
TZOFFSETFROM:-0600
TZOFFSETTO:-0700
TZNAME:MST
DTSTART:20261101T080000
END:STANDARD
BEGIN:DAYLIGHT
TZOFFSETFROM:-0700
TZOFFSETTO:-0600
TZNAME:MDT
DTSTART:20270314T090000
END:DAYLIGHT
BEGIN:STANDARD
TZOFFSETFROM:-0600
TZOFFSETTO:-0700
TZNAME:MST
DTSTART:20271107T080000
END:STANDARD
END:VTIMEZONE
BEGIN:VEVENT
DTSTART;TZID=America/Denver:20260313T190000
DTEND;TZID=America/Denver:20260313T220000
DTSTAMP:20260423T115220
CREATED:20260214T193710Z
LAST-MODIFIED:20260215T193825Z
UID:7886-1773428400-1773439200@www.treslitrosbeer.co
SUMMARY:Copper Children - Live Music
DESCRIPTION:This will be the second time we’ve had The Copper Children on our stage\, they are a four piece band that brings a unique blend of styles and influences that span from the choral sounds of American gospel music to the psychedelic acid jam fueled sounds of the 60s. Their live shows take you into your heart space\, conjuring the spirit of unity\, freedom\, silliness\, and love\, with harmonies and rhythms that remind us of our shared humanity. The Copper Children have shared the stage with notable artists such as Jerry Garcia Band\, The Flobots\, Devotchka\, Mike Love\, Everyone Orchestra\, Elephant Revival\, and many more. They are driven by rhythm and good vibration. Each member came together with the intention of spreading love of the purest form as far as possible.  Please come check out this band\, we think you’ll love their show.
URL:https://www.treslitrosbeer.co/event/copper-children-live-music/
LOCATION:Tres Litros Beer Company\, 118 N E St\, Salida\, CO\, 81201\, United States
ATTACH;FMTTYPE=image/png:https://www.treslitrosbeer.co/wp-content/uploads/2026/02/2026.03.13-Copper-Children-scaled.png
END:VEVENT
END:VCALENDAR