BEGIN:VCALENDAR
VERSION:2.0
PRODID:-//Tres Litros Beer Co. - ECPv6.15.20//NONSGML v1.0//EN
CALSCALE:GREGORIAN
METHOD:PUBLISH
X-ORIGINAL-URL:https://www.treslitrosbeer.co
X-WR-CALDESC:Events for Tres Litros Beer Co.
REFRESH-INTERVAL;VALUE=DURATION:PT1H
X-Robots-Tag:noindex
X-PUBLISHED-TTL:PT1H
BEGIN:VTIMEZONE
TZID:America/Denver
BEGIN:DAYLIGHT
TZOFFSETFROM:-0700
TZOFFSETTO:-0600
TZNAME:MDT
DTSTART:20250309T090000
END:DAYLIGHT
BEGIN:STANDARD
TZOFFSETFROM:-0600
TZOFFSETTO:-0700
TZNAME:MST
DTSTART:20251102T080000
END:STANDARD
BEGIN:DAYLIGHT
TZOFFSETFROM:-0700
TZOFFSETTO:-0600
TZNAME:MDT
DTSTART:20260308T090000
END:DAYLIGHT
BEGIN:STANDARD
TZOFFSETFROM:-0600
TZOFFSETTO:-0700
TZNAME:MST
DTSTART:20261101T080000
END:STANDARD
BEGIN:DAYLIGHT
TZOFFSETFROM:-0700
TZOFFSETTO:-0600
TZNAME:MDT
DTSTART:20270314T090000
END:DAYLIGHT
BEGIN:STANDARD
TZOFFSETFROM:-0600
TZOFFSETTO:-0700
TZNAME:MST
DTSTART:20271107T080000
END:STANDARD
END:VTIMEZONE
BEGIN:VEVENT
DTSTART;TZID=America/Denver:20260220T190000
DTEND;TZID=America/Denver:20260220T220000
DTSTAMP:20260423T133333
CREATED:20251215T192904Z
LAST-MODIFIED:20260128T183519Z
UID:7695-1771614000-1771624800@www.treslitrosbeer.co
SUMMARY:Worm Ceiling with Mia Antifa - Live Music
DESCRIPTION:A couple worms from El Paso\, TX are teaming up with some El Paso punks for one epic night of music. If you love edgy punk music with lyrics that speak to current events\, this is the band duo for you. Kicking the night off with Mia Antifa and wrapping it up with Worm Ceiling\, we are excited to welcome these two “new to Salida” bands to our stage. Come check them out!
URL:https://www.treslitrosbeer.co/event/mia-antifa-worm-ceiling-live-music/
LOCATION:Tres Litros Beer Company\, 118 N E St\, Salida\, CO\, 81201\, United States
ATTACH;FMTTYPE=image/jpeg:https://www.treslitrosbeer.co/wp-content/uploads/2025/12/2026.02.20-Mia-AntifaWorm-Ceiling.jpg
END:VEVENT
END:VCALENDAR