BEGIN:VCALENDAR
VERSION:2.0
PRODID:-//Tres Litros Beer Co. - ECPv6.15.20//NONSGML v1.0//EN
CALSCALE:GREGORIAN
METHOD:PUBLISH
X-WR-CALNAME:Tres Litros Beer Co.
X-ORIGINAL-URL:https://www.treslitrosbeer.co
X-WR-CALDESC:Events for Tres Litros Beer Co.
REFRESH-INTERVAL;VALUE=DURATION:PT1H
X-Robots-Tag:noindex
X-PUBLISHED-TTL:PT1H
BEGIN:VTIMEZONE
TZID:America/Denver
BEGIN:DAYLIGHT
TZOFFSETFROM:-0700
TZOFFSETTO:-0600
TZNAME:MDT
DTSTART:20250309T090000
END:DAYLIGHT
BEGIN:STANDARD
TZOFFSETFROM:-0600
TZOFFSETTO:-0700
TZNAME:MST
DTSTART:20251102T080000
END:STANDARD
BEGIN:DAYLIGHT
TZOFFSETFROM:-0700
TZOFFSETTO:-0600
TZNAME:MDT
DTSTART:20260308T090000
END:DAYLIGHT
BEGIN:STANDARD
TZOFFSETFROM:-0600
TZOFFSETTO:-0700
TZNAME:MST
DTSTART:20261101T080000
END:STANDARD
BEGIN:DAYLIGHT
TZOFFSETFROM:-0700
TZOFFSETTO:-0600
TZNAME:MDT
DTSTART:20270314T090000
END:DAYLIGHT
BEGIN:STANDARD
TZOFFSETFROM:-0600
TZOFFSETTO:-0700
TZNAME:MST
DTSTART:20271107T080000
END:STANDARD
END:VTIMEZONE
BEGIN:VEVENT
DTSTART;TZID=America/Denver:20260213T190000
DTEND;TZID=America/Denver:20260213T220000
DTSTAMP:20260423T133223
CREATED:20251215T192827Z
LAST-MODIFIED:20260118T205912Z
UID:7693-1771009200-1771020000@www.treslitrosbeer.co
SUMMARY:PJ Moon & The Swappers - Live Music
DESCRIPTION:PJ Moon and the Swappers is a band formed in Durango\, CO in 2017. The Group was formed by bandleader PJ Moon\, searching for a troupe of musicians who could help him realize his dream of making new modern rock and soul music with relevant\, relatable lyrics on top of innovative rhythm and melodies. Since 2021\, the band has found their home in the live music hotspot of Denver\, Colorado. With a diverse team of jazz\, blues\, indie and funk players originally “swapping” out every few shows\, the group developed into a core four piece of committed musicians who’ve taken their expression of soul from the west to the east\, Come check out a band new to Salida and see what these guys are all about.
URL:https://www.treslitrosbeer.co/event/pj-moon-the-swappers-live-music/
LOCATION:Tres Litros Beer Company\, 118 N E St\, Salida\, CO\, 81201\, United States
ATTACH;FMTTYPE=image/png:https://www.treslitrosbeer.co/wp-content/uploads/2025/12/2026.02.13-PJ-Moon-The-Swappers.png
END:VEVENT
END:VCALENDAR