BEGIN:VCALENDAR
VERSION:2.0
PRODID:-//Tres Litros Beer Co. - ECPv6.15.20//NONSGML v1.0//EN
CALSCALE:GREGORIAN
METHOD:PUBLISH
X-WR-CALNAME:Tres Litros Beer Co.
X-ORIGINAL-URL:https://www.treslitrosbeer.co
X-WR-CALDESC:Events for Tres Litros Beer Co.
REFRESH-INTERVAL;VALUE=DURATION:PT1H
X-Robots-Tag:noindex
X-PUBLISHED-TTL:PT1H
BEGIN:VTIMEZONE
TZID:America/Denver
BEGIN:DAYLIGHT
TZOFFSETFROM:-0700
TZOFFSETTO:-0600
TZNAME:MDT
DTSTART:20250309T090000
END:DAYLIGHT
BEGIN:STANDARD
TZOFFSETFROM:-0600
TZOFFSETTO:-0700
TZNAME:MST
DTSTART:20251102T080000
END:STANDARD
BEGIN:DAYLIGHT
TZOFFSETFROM:-0700
TZOFFSETTO:-0600
TZNAME:MDT
DTSTART:20260308T090000
END:DAYLIGHT
BEGIN:STANDARD
TZOFFSETFROM:-0600
TZOFFSETTO:-0700
TZNAME:MST
DTSTART:20261101T080000
END:STANDARD
BEGIN:DAYLIGHT
TZOFFSETFROM:-0700
TZOFFSETTO:-0600
TZNAME:MDT
DTSTART:20270314T090000
END:DAYLIGHT
BEGIN:STANDARD
TZOFFSETFROM:-0600
TZOFFSETTO:-0700
TZNAME:MST
DTSTART:20271107T080000
END:STANDARD
END:VTIMEZONE
BEGIN:VEVENT
DTSTART;TZID=America/Denver:20260211T180000
DTEND;TZID=America/Denver:20260211T190000
DTSTAMP:20260423T133230
CREATED:20260115T052546Z
LAST-MODIFIED:20260128T184611Z
UID:7793-1770832800-1770836400@www.treslitrosbeer.co
SUMMARY:Brewers Talk - Lager Discussion
DESCRIPTION:Please join us for the 5th installment of our Brewers Talk series. This month\, our brewer Quintin\, will be joined  by Bre Kennedy and will be discussing Lagers\, which Bre is very knowledgeable about. We will be featuring a flight of our lagers in this discussion.
URL:https://www.treslitrosbeer.co/event/brewers-talk-lager-discussion/
LOCATION:Tres Litros Beer Company\, 118 N E St\, Salida\, CO\, 81201\, United States
ATTACH;FMTTYPE=image/png:https://www.treslitrosbeer.co/wp-content/uploads/2026/01/2026.02.11-Brewers-Talk.png
END:VEVENT
END:VCALENDAR