BEGIN:VCALENDAR
VERSION:2.0
PRODID:-//Tres Litros Beer Co. - ECPv6.15.20//NONSGML v1.0//EN
CALSCALE:GREGORIAN
METHOD:PUBLISH
X-ORIGINAL-URL:https://www.treslitrosbeer.co
X-WR-CALDESC:Events for Tres Litros Beer Co.
REFRESH-INTERVAL;VALUE=DURATION:PT1H
X-Robots-Tag:noindex
X-PUBLISHED-TTL:PT1H
BEGIN:VTIMEZONE
TZID:America/Denver
BEGIN:DAYLIGHT
TZOFFSETFROM:-0700
TZOFFSETTO:-0600
TZNAME:MDT
DTSTART:20250309T090000
END:DAYLIGHT
BEGIN:STANDARD
TZOFFSETFROM:-0600
TZOFFSETTO:-0700
TZNAME:MST
DTSTART:20251102T080000
END:STANDARD
BEGIN:DAYLIGHT
TZOFFSETFROM:-0700
TZOFFSETTO:-0600
TZNAME:MDT
DTSTART:20260308T090000
END:DAYLIGHT
BEGIN:STANDARD
TZOFFSETFROM:-0600
TZOFFSETTO:-0700
TZNAME:MST
DTSTART:20261101T080000
END:STANDARD
BEGIN:DAYLIGHT
TZOFFSETFROM:-0700
TZOFFSETTO:-0600
TZNAME:MDT
DTSTART:20270314T090000
END:DAYLIGHT
BEGIN:STANDARD
TZOFFSETFROM:-0600
TZOFFSETTO:-0700
TZNAME:MST
DTSTART:20271107T080000
END:STANDARD
END:VTIMEZONE
BEGIN:VEVENT
DTSTART;TZID=America/Denver:20260207T190000
DTEND;TZID=America/Denver:20260207T220000
DTSTAMP:20260423T133315
CREATED:20251215T192348Z
LAST-MODIFIED:20260126T194031Z
UID:7689-1770490800-1770501600@www.treslitrosbeer.co
SUMMARY:All Waffle Trick & Big Horn - Live Music
DESCRIPTION:All Waffle Trick is back on our stage by popular demand. This 3-piece Ska-Punk band from Denver\, CO is back for their second time at Tres Litros. Their music “straight off a Tony Hawk Pro Skater Soundtrack” has razor-sharp lyrical wit and a knack for writing melodies that linger in your head. If you haven’t seen them here before\, you should probably get to it. Opening the show that night will be our favorite local punk band\, Big Horn. They need no introduction\, but if you’re new to town\, or have somehow not heard of them\, they are a 4-piece band that plays all originals and their shows never disappoint. Come support punk music because we want to keep bringing it to town.
URL:https://www.treslitrosbeer.co/event/all-waffle-trick-live-music/
LOCATION:Tres Litros Beer Company\, 118 N E St\, Salida\, CO\, 81201\, United States
ATTACH;FMTTYPE=image/png:https://www.treslitrosbeer.co/wp-content/uploads/2025/12/2026.02.07-All-Waffle-TrickBig-Horn-scaled.png
END:VEVENT
END:VCALENDAR