BEGIN:VCALENDAR
VERSION:2.0
PRODID:-//Tres Litros Beer Co. - ECPv6.15.20//NONSGML v1.0//EN
CALSCALE:GREGORIAN
METHOD:PUBLISH
X-WR-CALNAME:Tres Litros Beer Co.
X-ORIGINAL-URL:https://www.treslitrosbeer.co
X-WR-CALDESC:Events for Tres Litros Beer Co.
REFRESH-INTERVAL;VALUE=DURATION:PT1H
X-Robots-Tag:noindex
X-PUBLISHED-TTL:PT1H
BEGIN:VTIMEZONE
TZID:America/Denver
BEGIN:DAYLIGHT
TZOFFSETFROM:-0700
TZOFFSETTO:-0600
TZNAME:MDT
DTSTART:20240310T090000
END:DAYLIGHT
BEGIN:STANDARD
TZOFFSETFROM:-0600
TZOFFSETTO:-0700
TZNAME:MST
DTSTART:20241103T080000
END:STANDARD
BEGIN:DAYLIGHT
TZOFFSETFROM:-0700
TZOFFSETTO:-0600
TZNAME:MDT
DTSTART:20250309T090000
END:DAYLIGHT
BEGIN:STANDARD
TZOFFSETFROM:-0600
TZOFFSETTO:-0700
TZNAME:MST
DTSTART:20251102T080000
END:STANDARD
BEGIN:DAYLIGHT
TZOFFSETFROM:-0700
TZOFFSETTO:-0600
TZNAME:MDT
DTSTART:20260308T090000
END:DAYLIGHT
BEGIN:STANDARD
TZOFFSETFROM:-0600
TZOFFSETTO:-0700
TZNAME:MST
DTSTART:20261101T080000
END:STANDARD
END:VTIMEZONE
BEGIN:VEVENT
DTSTART;TZID=America/Denver:20251231T210000
DTEND;TZID=America/Denver:20251231T235900
DTSTAMP:20260423T150719
CREATED:20251119T000025Z
LAST-MODIFIED:20251202T222131Z
UID:7533-1767214800-1767225540@www.treslitrosbeer.co
SUMMARY:Roundhouse Assembly - Live Music
DESCRIPTION:It’s hard to believe it’s been a full year since we’ve had Roundhouse Assembly on our stage\, but it’s been since last New Years Eve that we’ve hosted this local Grateful Dead cover band. If you were at the show\, you know how much fun it was and we expect this show to be a blast as well. If you weren’t there last year\, trust us\, you don’t want to miss this party. Come celebrate another NYE dancing to your favorite tunes and drinking your favorite beer!
URL:https://www.treslitrosbeer.co/event/roundhouse-assembly-live-music/
LOCATION:Tres Litros Beer Company\, 118 N E St\, Salida\, CO\, 81201\, United States
ATTACH;FMTTYPE=image/png:https://www.treslitrosbeer.co/wp-content/uploads/2025/11/2025.12.31-Roundhouse-Assembly-scaled.png
END:VEVENT
END:VCALENDAR