BEGIN:VCALENDAR
VERSION:2.0
PRODID:-//Tres Litros Beer Co. - ECPv6.15.20//NONSGML v1.0//EN
CALSCALE:GREGORIAN
METHOD:PUBLISH
X-ORIGINAL-URL:https://www.treslitrosbeer.co
X-WR-CALDESC:Events for Tres Litros Beer Co.
REFRESH-INTERVAL;VALUE=DURATION:PT1H
X-Robots-Tag:noindex
X-PUBLISHED-TTL:PT1H
BEGIN:VTIMEZONE
TZID:America/Denver
BEGIN:DAYLIGHT
TZOFFSETFROM:-0700
TZOFFSETTO:-0600
TZNAME:MDT
DTSTART:20240310T090000
END:DAYLIGHT
BEGIN:STANDARD
TZOFFSETFROM:-0600
TZOFFSETTO:-0700
TZNAME:MST
DTSTART:20241103T080000
END:STANDARD
BEGIN:DAYLIGHT
TZOFFSETFROM:-0700
TZOFFSETTO:-0600
TZNAME:MDT
DTSTART:20250309T090000
END:DAYLIGHT
BEGIN:STANDARD
TZOFFSETFROM:-0600
TZOFFSETTO:-0700
TZNAME:MST
DTSTART:20251102T080000
END:STANDARD
BEGIN:DAYLIGHT
TZOFFSETFROM:-0700
TZOFFSETTO:-0600
TZNAME:MDT
DTSTART:20260308T090000
END:DAYLIGHT
BEGIN:STANDARD
TZOFFSETFROM:-0600
TZOFFSETTO:-0700
TZNAME:MST
DTSTART:20261101T080000
END:STANDARD
END:VTIMEZONE
BEGIN:VEVENT
DTSTART;TZID=America/Denver:20251206T190000
DTEND;TZID=America/Denver:20251206T220000
DTSTAMP:20260423T164750
CREATED:20251202T051223Z
LAST-MODIFIED:20251202T052038Z
UID:7621-1765047600-1765058400@www.treslitrosbeer.co
SUMMARY:Groovespeak - Live Music
DESCRIPTION:Groovespeak is a high-altitude fusion of rock\, funk\, blues\, country\, and jazz—an original sound forged in the heart of the Rockies. Formed in 2003 in Leadville\, Colorado\, the band has carved out a reputation for soulful songwriting\, fearless improvisation\, and groove-heavy performances that reflect the rugged spirit of mountain living. Led by songwriter and multi-instrumentalist Carey Nall\, and co-founded by keys/guitar wizard Brian Woodward\, Groovespeak blends decades of musical experience with a deep love for genre-crossing exploration. Drawing influences from The Beatles to Funkadelic\, John Coltrane to Jerry Reed\, their sound is both rooted and adventurous—familiar yet constantly surprising. After a several-year hiatus\, Groovespeak is back with fresh material\, new energy\, and a renewed commitment to live performance. Whether playing stripped-down acoustic sets or full-band electric shows\, the group continues to captivate Colorado audiences from Leadville to Salida and beyond. With new albums in the works and a growing collection of archived recordings\, Groovespeak is once again speaking the language of the groove—and inviting everyone to listen.
URL:https://www.treslitrosbeer.co/event/groovespeak-live-music/
LOCATION:Tres Litros Beer Company\, 118 N E St\, Salida\, CO\, 81201\, United States
ATTACH;FMTTYPE=image/png:https://www.treslitrosbeer.co/wp-content/uploads/2025/12/2025.12.06-Groovespeak-scaled.png
END:VEVENT
END:VCALENDAR