BEGIN:VCALENDAR
VERSION:2.0
PRODID:-//Tres Litros Beer Co. - ECPv6.15.20//NONSGML v1.0//EN
CALSCALE:GREGORIAN
METHOD:PUBLISH
X-ORIGINAL-URL:https://www.treslitrosbeer.co
X-WR-CALDESC:Events for Tres Litros Beer Co.
REFRESH-INTERVAL;VALUE=DURATION:PT1H
X-Robots-Tag:noindex
X-PUBLISHED-TTL:PT1H
BEGIN:VTIMEZONE
TZID:America/Denver
BEGIN:DAYLIGHT
TZOFFSETFROM:-0700
TZOFFSETTO:-0600
TZNAME:MDT
DTSTART:20240310T090000
END:DAYLIGHT
BEGIN:STANDARD
TZOFFSETFROM:-0600
TZOFFSETTO:-0700
TZNAME:MST
DTSTART:20241103T080000
END:STANDARD
BEGIN:DAYLIGHT
TZOFFSETFROM:-0700
TZOFFSETTO:-0600
TZNAME:MDT
DTSTART:20250309T090000
END:DAYLIGHT
BEGIN:STANDARD
TZOFFSETFROM:-0600
TZOFFSETTO:-0700
TZNAME:MST
DTSTART:20251102T080000
END:STANDARD
BEGIN:DAYLIGHT
TZOFFSETFROM:-0700
TZOFFSETTO:-0600
TZNAME:MDT
DTSTART:20260308T090000
END:DAYLIGHT
BEGIN:STANDARD
TZOFFSETFROM:-0600
TZOFFSETTO:-0700
TZNAME:MST
DTSTART:20261101T080000
END:STANDARD
END:VTIMEZONE
BEGIN:VEVENT
DTSTART;TZID=America/Denver:20251128T190000
DTEND;TZID=America/Denver:20251128T220000
DTSTAMP:20260423T182230
CREATED:20251118T210610Z
LAST-MODIFIED:20251119T002900Z
UID:7480-1764356400-1764367200@www.treslitrosbeer.co
SUMMARY:DJ Williams Band - Live Music
DESCRIPTION:It’s been less than a year since DJ Williams Band first graced our stage. Since then\, DJ has released a new album called Gravity & Grace. His music crosses genres\, melding seamlessly soul\, rock\, & funk. His fleet-fingered playing has captured the hearts of music lovers across the globe\, gracing both intimate small rock venues to large\, prestigious music festivals spanning the US\, Canada\, and Europe. He has carved a name for himself in the touring circuit as the lead guitarist for Karl Denson’s Tiny Universe and touring with his eclectic Richmond\, VA\, funk outfit\, DJ Williams Projekt. This is not a show to miss.
URL:https://www.treslitrosbeer.co/event/dj-williams-band-live-music/
LOCATION:Tres Litros Beer Company\, 118 N E St\, Salida\, CO\, 81201\, United States
ATTACH;FMTTYPE=image/png:https://www.treslitrosbeer.co/wp-content/uploads/2025/10/2025.11.28-DJ-WIlliams-copy.png
END:VEVENT
END:VCALENDAR