BEGIN:VCALENDAR
VERSION:2.0
PRODID:-//Tres Litros Beer Co. - ECPv6.15.20//NONSGML v1.0//EN
CALSCALE:GREGORIAN
METHOD:PUBLISH
X-ORIGINAL-URL:https://www.treslitrosbeer.co
X-WR-CALDESC:Events for Tres Litros Beer Co.
REFRESH-INTERVAL;VALUE=DURATION:PT1H
X-Robots-Tag:noindex
X-PUBLISHED-TTL:PT1H
BEGIN:VTIMEZONE
TZID:America/Denver
BEGIN:DAYLIGHT
TZOFFSETFROM:-0700
TZOFFSETTO:-0600
TZNAME:MDT
DTSTART:20240310T090000
END:DAYLIGHT
BEGIN:STANDARD
TZOFFSETFROM:-0600
TZOFFSETTO:-0700
TZNAME:MST
DTSTART:20241103T080000
END:STANDARD
BEGIN:DAYLIGHT
TZOFFSETFROM:-0700
TZOFFSETTO:-0600
TZNAME:MDT
DTSTART:20250309T090000
END:DAYLIGHT
BEGIN:STANDARD
TZOFFSETFROM:-0600
TZOFFSETTO:-0700
TZNAME:MST
DTSTART:20251102T080000
END:STANDARD
BEGIN:DAYLIGHT
TZOFFSETFROM:-0700
TZOFFSETTO:-0600
TZNAME:MDT
DTSTART:20260308T090000
END:DAYLIGHT
BEGIN:STANDARD
TZOFFSETFROM:-0600
TZOFFSETTO:-0700
TZNAME:MST
DTSTART:20261101T080000
END:STANDARD
END:VTIMEZONE
BEGIN:VEVENT
DTSTART;TZID=America/Denver:20251123T180000
DTEND;TZID=America/Denver:20251123T210000
DTSTAMP:20260423T182230
CREATED:20251118T210534Z
LAST-MODIFIED:20251119T002853Z
UID:7478-1763920800-1763931600@www.treslitrosbeer.co
SUMMARY:Jeshua Marshall - Live Music
DESCRIPTION:If there is one thing you can expect from Tres Litros (besides great beer)\, it’s that we’re always bringing extremely talented musicians you’ve never heard of to our stage. This will be Jeshua Marshall’s third time on our stage and as was the case in his first two appearances\, this performance will not disappoint. His mix of Punk Rock Roots\, Folk\, Reggae\, Americana\, and Indie Rock is written from his heart and experiences\, delivering raw honest lyrics on a bed of energetic\, emotional music. This globe trotting musician has toured across the US & Canada and has performed in 14 countries worldwide. Come check out Salida’s newest favorite band.
URL:https://www.treslitrosbeer.co/event/jeshua-marshall-live-music/
LOCATION:Tres Litros Beer Company\, 118 N E St\, Salida\, CO\, 81201\, United States
ATTACH;FMTTYPE=image/png:https://www.treslitrosbeer.co/wp-content/uploads/2025/10/2025.11.23-Jeshua-Marshall-copy.png
END:VEVENT
END:VCALENDAR